BEGIN:VCALENDAR
VERSION:2.0
PRODID:-//Texas Private School Music Educators Association - ECPv6.11.2.1//NONSGML v1.0//EN
CALSCALE:GREGORIAN
METHOD:PUBLISH
X-WR-CALNAME:Texas Private School Music Educators Association
X-ORIGINAL-URL:https://www.tpsmea.org
X-WR-CALDESC:Events for Texas Private School Music Educators Association
REFRESH-INTERVAL;VALUE=DURATION:PT1H
X-Robots-Tag:noindex
X-PUBLISHED-TTL:PT1H
BEGIN:VTIMEZONE
TZID:America/Chicago
BEGIN:DAYLIGHT
TZOFFSETFROM:-0600
TZOFFSETTO:-0500
TZNAME:CDT
DTSTART:20260308T080000
END:DAYLIGHT
BEGIN:STANDARD
TZOFFSETFROM:-0500
TZOFFSETTO:-0600
TZNAME:CST
DTSTART:20261101T070000
END:STANDARD
END:VTIMEZONE
BEGIN:VEVENT
DTSTART;VALUE=DATE:20260420
DTEND;VALUE=DATE:20260421
DTSTAMP:20260420T045139
CREATED:20220815T044208Z
LAST-MODIFIED:20250716T212304Z
UID:21702-1776643200-1776729599@www.tpsmea.org
SUMMARY:North & South State Instrumental Solo & Ensemble Registration Deadline
DESCRIPTION:State Solo & Ensemble registration is open on www.Solo-Ensemble.com \nEntry Fees: \nState Solo Registration Fee is $20.00 per solo \nEnsemble Registration Fee is $10.00 per ensemble member \nThe fee must be paid prior the festival date.\nAudition fees can be paid on the Member’s Only page. Members Only | Texas Private School Music Educators Association\nOr send the entry fees to: TPSMEA\, PO Box 34655\, Fort Worth\, TX 76162.
URL:https://www.tpsmea.org/event/state-marching-contest-entry-deadline/
CATEGORIES:Band Event,Orchestra Event
END:VEVENT
END:VCALENDAR